BEGIN:VCALENDAR
VERSION:2.0
X-WR-CALNAME:www.indybay.org
PRODID:-//indybay/ical// v1.0//EN
BEGIN:VEVENT
UID:Indybay-18478196
SEQUENCE:18502459
CREATED:20080210T203200Z
DESCRIPTION:\nRally to Stop Unsafe Trucks from Mexico \n\nBroken Promises, Broken 
 Borders — now Broken Trucks \n\nTrucks from Mexico aren't as safe as 
 ours. Border Inspection stations are overwhelmed. Congress passed law after 
 law requiring proof that a cross-border pilot program wouldn't affect 
 safety. But the Bush administration doesn't care!  \n\nTell the public that 
 Bush's cross-border trucking program is illegal and dangerous! Join the 
 Teamsters for a rally on February 12 in front of the appellate court. 
 \n\nWHAT: Rally to Stop Unsafe Trucks \n\nWHEN: February 12, 2008, 8:00 AM 
 \n\nWHERE: 9th Appellate Federal Courthouse, 95 7th Street - Corner of 
 Mission and 7th, San Francisco \n\nFor more information, please contact Bob 
 Blanchet at (510) 673-1324;  RSVP to Emily Nelson at (415) 440-4809 or  
 \n\n https://www.indybay.org/newsitems/2008/02/10/18478196.php
SUMMARY:Rally to Stop Unsafe Trucks from Mexico
LOCATION:9th Appellate Federal Courthouse, 95 7th Street - Corner of Mission and 
 7th, San Francisco
URL:https://www.indybay.org/newsitems/2008/02/10/18478196.php
DTSTART:20080212T160000Z
DTEND:20080212T170000Z
END:VEVENT
END:VCALENDAR
