BEGIN:VCALENDAR
VERSION:2.0
X-WR-CALNAME:www.indybay.org
PRODID:-//indybay/ical// v1.0//EN
BEGIN:VEVENT
UID:Indybay-18478086
SEQUENCE:18502329
CREATED:20080210T042500Z
DESCRIPTION:Film: The Price of the Ticket.  This inspiring\ndocumentary about one of 
 the 20th century's greatest\nwriters traces his development from a 
 teenaged\npreacher in 1930s Harlem to a writer in post-war Paris\nand a 
 leader of the U.S. Black civil rights movement\nof the ‘60s.  Baldwin 
 wrote prophetically about race,\nsexuality, class and the necessity for 
 fundamental\nsocial change. Americans of every walk of life have\nbeen 
 influenced by this man's ideas whether they have\never heard his name or 
 not. Come find out more about\nhis life and his heroic battle against 
 racism. \nRevolutionary poet Nellie Wong will lead a discussion\nafter the 
 film.\n\nA delicious Southern Gumbo dinner will be served at\n6:00pm before 
 the movie.  The film begins at 7:30pm. \nDoor donation is $3.00 for the 
 movie; dinner donation\nis $8.50.  Sliding scale and work exchanges 
 are\navailable for students and low-income people.  \n 
 https://www.indybay.org/newsitems/2008/02/09/18478086.php
SUMMARY:The price of the Ticket / Celebrate the life and times of James Baldwin
LOCATION:The event will take place at New Valencia Hall, 625\nLarkin Street, Suite 
 202, in San Francisco (near Civic\nCenter BART and on or near the #49, 48, 
 47, 31 & 19\nMuni bus lines). 
URL:https://www.indybay.org/newsitems/2008/02/09/18478086.php
DTSTART:20080216T020000Z
DTEND:20080216T060000Z
END:VEVENT
END:VCALENDAR
