BEGIN:VCALENDAR
VERSION:2.0
X-WR-CALNAME:www.indybay.org
PRODID:-//indybay/ical// v1.0//EN
BEGIN:VEVENT
UID:Indybay-18476215
SEQUENCE:18500022
CREATED:20080201T095400Z
DESCRIPTION:Don't miss this free, bilingual, cultural event for the community. Come 
 hear how the people of Oaxaca, Mexico are struggling against and surviving 
 state oppression.\n\nMusic: Son Jarocho and 
 more\nTamales\nPoetry\nCommunity Artists\nA video documentary T.B.A.\n 
 https://www.indybay.org/newsitems/2008/02/01/18476215.php
SUMMARY:Oaxaca: the struggle continues ...
LOCATION:Station 40\n3030b 16th Street\n(between Mission and Valencia, 1/4 block 
 from BART)\n(It's a 3rd-floor walk-up. Sorry!)
URL:https://www.indybay.org/newsitems/2008/02/01/18476215.php
DTSTART:20080203T023000Z
DTEND:20080203T063000Z
END:VEVENT
END:VCALENDAR
