BEGIN:VCALENDAR
VERSION:2.0
X-WR-CALNAME:www.indybay.org
PRODID:-//indybay/ical// v1.0//EN
BEGIN:VEVENT
UID:Indybay-18476198
SEQUENCE:18500004
CREATED:20080201T070500Z
DESCRIPTION:Acclaimed artist, Robert Shetterly, has produced a series of portraits and 
 a book entitled Americans Who Tell the Truth.  The exhibition is opening in 
 San Francisco with a Reception for Robert Shetterly and many of the people 
 he has portrayed in his portriats-including James Bell, Daniel Ellsberg, 
 Janice Mirikitani, Carols Munos, Eva Paterson, Cindy Sheehan, Lateefah 
 Simon, and Cecil Williams. There will also be presentations by youth. The 
 event is free and open to the public.\n\n\nOn February 1, 2008 a show of 92 
 portraits will open in San Francisco in two locations: The African American 
 Art and Culture Complex at 762 Fulton St. and at the Administrative Offices 
 of the Courts at 455 Golden Gate Ave. For more information call: 
 510-486-2340 \n https://www.indybay.org/newsitems/2008/01/31/18476198.php
SUMMARY:Americans Who Tell The Truth
LOCATION:African American Arts and Culture Complex\n762 Fulton Street\nSan Francisco
URL:https://www.indybay.org/newsitems/2008/01/31/18476198.php
DTSTART:20080202T020000Z
DTEND:20080202T040000Z
END:VEVENT
END:VCALENDAR
