BEGIN:VCALENDAR
VERSION:2.0
X-WR-CALNAME:www.indybay.org
PRODID:-//indybay/ical// v1.0//EN
BEGIN:VEVENT
UID:Indybay-18475331
SEQUENCE:18498894
CREATED:20080128T010700Z
DESCRIPTION:Critical Mass in Oakland! \n\nJoin Us for a Fun Bike Ride Party/Tour of the 
 City! \n\nMeet Every First Friday of the Month at 6pm near the BART entry 
 at Frank Ogawa Plaza (City Hall) \n\nCritical Mass is heating up in the Bay 
 Area and throughout the Planet! Can bikes and motorists coexist without 
 motorist road rage? Come out and help make it happen! Let's make it safe 
 for everyone to ride and have fun!\n\nCritical Mass is a community bike 
 ride. We seek to display, promote, and celebrate healthy human-scale 
 transportation. \n\nGet out of your car and into your body... come ride 
 with us! \n https://www.indybay.org/newsitems/2008/01/27/18475331.php
SUMMARY:Critical Mass in Oakland
LOCATION:Meet outside the 14th & Broadway BART station entry at Frank Ogawa Plaza 
 (City Hall) \n\nGather around 5:30 to 6:00 and ride! at Critical Mass
URL:https://www.indybay.org/newsitems/2008/01/27/18475331.php
DTSTART:20080202T020000Z
DTEND:20080202T033000Z
END:VEVENT
END:VCALENDAR
