BEGIN:VCALENDAR
VERSION:2.0
X-WR-CALNAME:www.indybay.org
PRODID:-//indybay/ical// v1.0//EN
BEGIN:VEVENT
UID:Indybay-18475070
SEQUENCE:18500758
CREATED:20080126T223700Z
DESCRIPTION:The start of Chairman Fred's Central Cost Tour. He will be speaking about 
 recent travels to Brazil along with speaking about the state of BLACKNESS 
 in America. Part of the speakers series for Black Students United Black 
 History Month events.\n 
 https://www.indybay.org/newsitems/2008/01/26/18475070.php
SUMMARY:Chairman Fred Hampton Jr @ California State University Monterey Bay
LOCATION:California State University Monterey Bay's University Center Ball Room 
 Building 28\n\ncall for directions 831-582-4111
URL:https://www.indybay.org/newsitems/2008/01/26/18475070.php
DTSTART:20080205T200000Z
DTEND:20080205T220000Z
END:VEVENT
END:VCALENDAR
