BEGIN:VCALENDAR
VERSION:2.0
X-WR-CALNAME:www.indybay.org
PRODID:-//indybay/ical// v1.0//EN
BEGIN:VEVENT
UID:Indybay-18473716
SEQUENCE:18499845
CREATED:20080121T054300Z
DESCRIPTION:Part of the Islamic Awareness Series 2008 @ Stanford\n\nTHE JIHAD TO 
 REFORM:  THE STRUGGLE TO DEFINE OUR FAITH \n\nDr. Khaled Abou El Fadl 
 \nThursday January 31, 2008, 7pm\nCubberly Auditorium  \n\nDr. Abou 
 El-Fadl, a professor of law at UCLA, will discuss the current trend in the 
 Muslim world towards an extremely exclusive and disturbingly narrow vision 
 of Islamic theology and law. In discussing the notion and nature of 
 revealed Truth, Abou El Fadl will attempt to show how the Muslim community 
 of faith can understand such revealed Truths in a way that is true to the 
 Islamic texts yet compatible with principles of coexistence, pluralism, and 
 human equality. Dr. Abou El Fadl offers a theological perspective that 
 attempts to transcend narrow views of religious doctrine and reconcile 
 seemingly contradictory principles. \n 
 https://www.indybay.org/newsitems/2008/01/20/18473716.php
SUMMARY:Towards Coexistence: Wrestling Islam from Intolerance
LOCATION:Stanford University \nCubberly Auditorium \nMap:  
 http://campus-map.stanford.edu/
URL:https://www.indybay.org/newsitems/2008/01/20/18473716.php
DTSTART:20080201T030000Z
DTEND:20080201T050000Z
END:VEVENT
END:VCALENDAR
