BEGIN:VCALENDAR
VERSION:2.0
X-WR-CALNAME:www.indybay.org
PRODID:-//indybay/ical// v1.0//EN
BEGIN:VEVENT
UID:Indybay-18473308
SEQUENCE:18496446
CREATED:20080118T221200Z
DESCRIPTION:Join Lisa Robinson (Snowbound, 2007, Kehrer, Germany) in discussion 
 with\nJohn Mannion of Light Work in Syracuse & Ariel Shanberg of 
 the\nCenter for Photography in Woodstock\n\n$5 Public, $2 Students/Seniors, 
 Free for Camerawork Members\n 
 https://www.indybay.org/newsitems/2008/01/18/18473308.php
SUMMARY:In Conversation
LOCATION:SF Camerawork, 657 Mission Street, 2nd Floor 
URL:https://www.indybay.org/newsitems/2008/01/18/18473308.php
DTSTART:20080208T020000Z
DTEND:20080208T040000Z
END:VEVENT
END:VCALENDAR
