BEGIN:VCALENDAR
VERSION:2.0
X-WR-CALNAME:www.indybay.org
PRODID:-//indybay/ical// v1.0//EN
BEGIN:VEVENT
UID:Indybay-18472972
SEQUENCE:18496053
CREATED:20080117T032400Z
DESCRIPTION:Tuesday, Jan. 22, 7pm \nBerkeley Fellowship of Unitarian 
 Universalists\n1924 Cedar @ Bonita, Berkeley\n\nREDEFINING THE OCCUPATION 
 IN PALESTINE: A\nPRESENTATION AND DISCUSSION\nWITH MARK TURNER, HUMAN 
 RIGHTS ACTIVIST\n \nInternational human rights activist Mark Turner has 
 returned from his most recent nine-month stay in Balata Refugee Camp in the 
 northern West Bank city of Nablus. During his stay, Mark volunteered with 
 medical relief crews during two major Israeli military invasions and 
 documented scores of other military operations in and around Nablus and its 
 refugee camps. Mark’s films helped to bring international attention to 
 the continued, illegal use of human shields by the Israeli military in the 
 West Bank, including an incident in which soldiers kidnapped an 
 eleven-year-old girl and forced her to lead them into neighboring homes. 
 Turner is currently touring the United States, presenting his experiences 
 and analysis of the developing situation in Occupied Palestine.\n \n \n 
 $10-$50, no one turned away for lack of funds\n All proceeds benefit 
 Research Journalism Initiative,\n a non-profit\n 501(c)3 organization\n \n 
 For more information, please visit\n 
 www.researchjournalisminitiative.net\n\n\n\n 
 https://www.indybay.org/newsitems/2008/01/16/18472972.php
SUMMARY:Redefining the Occupation in Palestine
LOCATION:Berkeley Fellowship of Unitarian Universalists\n1924 Cedar @ Bonita, 
 Berkeley\n
URL:https://www.indybay.org/newsitems/2008/01/16/18472972.php
DTSTART:20080123T030000Z
DTEND:20080123T050000Z
END:VEVENT
END:VCALENDAR
