BEGIN:VCALENDAR
VERSION:2.0
X-WR-CALNAME:www.indybay.org
PRODID:-//indybay/ical// v1.0//EN
BEGIN:VEVENT
UID:Indybay-18472640
SEQUENCE:18498269
CREATED:20080115T211700Z
DESCRIPTION:\n https://www.indybay.org/newsitems/2008/01/15/18472640.php
SUMMARY:Redwood Curtain Anti-Fascist Action meeting
LOCATION:(SPIDER HOUSE) 1768 Iverson St. 95521
URL:https://www.indybay.org/newsitems/2008/01/15/18472640.php
DTSTART:20080126T234500Z
DTEND:20080127T014500Z
END:VEVENT
END:VCALENDAR
