BEGIN:VCALENDAR
VERSION:2.0
X-WR-CALNAME:www.indybay.org
PRODID:-//indybay/ical// v1.0//EN
BEGIN:VEVENT
UID:Indybay-18472430
SEQUENCE:18495358
CREATED:20080114T215600Z
DESCRIPTION:Amid ever-increasing gas prices, this documentary delves into the short 
 life of the GM EV1 electric car -- once all the rage in the mid-1990s and 
 now fallen by the roadside.  It was among the fastest, most efficient 
 production cars ever built.  It ran on electricity, produced no emissions, 
 and catapulted American technology to the forefront of the automotive 
 industry. How could such an efficient, green-friendly vehicle fail to 
 transform our garages and skies?  Filmmaker Chris Paine interviews and 
 investigates automakers, legislators, engineers, consumers and car 
 enthusiasts from Los Angeles to Detroit, to work through motives and 
 alibis, and to piece together a complex puzzle.\n 
 https://www.indybay.org/newsitems/2008/01/14/18472430.php
SUMMARY:Screening of Who Killed the Electric Car?
LOCATION:Mt.  Diablo Peace & Justice Center, 55 Eckley Lane, Walnut Creek 94596
URL:https://www.indybay.org/newsitems/2008/01/14/18472430.php
DTSTART:20080124T030000Z
DTEND:20080124T050000Z
END:VEVENT
END:VCALENDAR
