BEGIN:VCALENDAR
VERSION:2.0
X-WR-CALNAME:www.indybay.org
PRODID:-//indybay/ical// v1.0//EN
BEGIN:VEVENT
UID:Indybay-18471627
SEQUENCE:18494366
CREATED:20080111T074600Z
DESCRIPTION:Fundraiser for Carol Denney & Berkeley Liberation Radio - Friday February 
 1, 2008\n\nPerformances by\nAndrea Prichett & Friends of Carol 
 Denney\nFunky Nixons\nPhoenix\nAfter Buffalo\nMC Che X\n\n7pm\n$12-$15 
 sliding scale\n\nat La Peña Cultural Center\n3105 Shattuck Ave. in 
 Berkeley\n510-849-2568\nhttp://lapena.org\n 
 https://www.indybay.org/newsitems/2008/01/10/18471627.php
SUMMARY:Fundraiser for Carol Denney & Berkeley Liberation Radio
LOCATION:at La Peña Cultural Center\n3105 Shattuck Ave. in 
 Berkeley\n510-849-2568\nhttp://lapena.org
URL:https://www.indybay.org/newsitems/2008/01/10/18471627.php
DTSTART:20080202T030000Z
DTEND:20080202T070000Z
END:VEVENT
END:VCALENDAR
