BEGIN:VCALENDAR
VERSION:2.0
X-WR-CALNAME:www.indybay.org
PRODID:-//indybay/ical// v1.0//EN
BEGIN:VEVENT
UID:Indybay-18471582
SEQUENCE:18494476
CREATED:20080111T033000Z
DESCRIPTION:AIDS LifeCycle Video Screening!\n\nwww.aidslifecycle.org\n\nTeam Ugly (4 
 co-workers of the Ugly Mug) is hosting a video screening of an AIDS 
 LifeCycle documentary! You should come!\n\nAIDS LifeCycle\nVideo 
 Screening!\n\nCome support Team Ugly\n(4 co-workers of The Ugly Mug)\nby 
 watching a short documentary\nabout the history of the 
 AIDS\nLifeCycle!\n\nWe will have treats to share!\n\nThe video screening is 
 free!\n\nDonate if you feel so inclined!\n\nJust come hang out and have\nA 
 good time!\n\nWhen: Sunday January 20th!\nAt: 8pm!\nWhere: The Ugly 
 Mug!\n4640 Soquel Drive\n\nBring friends & family!\n\nWe look forward to 
 seeing you\nThere and thank you for your\nSupport!\n 
 https://www.indybay.org/newsitems/2008/01/10/18471582.php
SUMMARY:AIDS LifeCycle Video Screening -- FREE
LOCATION:The Ugly Mug Coffeehouse!
URL:https://www.indybay.org/newsitems/2008/01/10/18471582.php
DTSTART:20080121T040000Z
DTEND:20080121T050000Z
END:VEVENT
END:VCALENDAR
