BEGIN:VCALENDAR
VERSION:2.0
X-WR-CALNAME:www.indybay.org
PRODID:-//indybay/ical// v1.0//EN
BEGIN:VEVENT
UID:Indybay-18471334
SEQUENCE:18494024
CREATED:20080109T225000Z
DESCRIPTION:Wear Orange: Prisoners Awareness Day Project Reception\nTuesday March 11 | 
 Free | 5–6pm\nPeople in San Francisco and neighboring cities will wear 
 orange for a day to symbolize the scope of incarceration. Join Plain Human, 
 a local collaborative group of creators, designers and activists who have 
 friends and family incarcer­ated in California and National Correctional 
 Institutions, for a reception celebrating a day of community building.To 
 participate, visit www.plainhuman.org.\n 
 https://www.indybay.org/newsitems/2008/01/09/18471334.php
SUMMARY:Wear Orange: Prisoners Awareness Day Project Reception
LOCATION:Located at Intersection for the Arts, 446 Valencia Street (btw 15th and 
 16th) in San Francisco. Closest Bart is 16th and Mission, get off and walk 
 one block up 16th to Valencia.
URL:https://www.indybay.org/newsitems/2008/01/09/18471334.php
DTSTART:20080311T120000Z
DTEND:20080311T180000Z
END:VEVENT
END:VCALENDAR
