BEGIN:VCALENDAR
VERSION:2.0
X-WR-CALNAME:www.indybay.org
PRODID:-//indybay/ical// v1.0//EN
BEGIN:VEVENT
UID:Indybay-18471094
SEQUENCE:18493713
CREATED:20080108T231600Z
DESCRIPTION:Free Screening of IRON LADIES OF LIBERIA by Daniel Junge, Siatta 
 Scott-Johnson, Henry Ansbacher and Jonathan Stack\nShe's already overcome 
 tremendous obstacles to become the first woman ever elected president in 
 Africa-now all she has to do is turn around Liberia- a country devastated 
 by unemployment, debt, corruption, and the legacy of civil war. Follow 
 Ellen Johnson Sirleaf through her first year in office. Her story is 
 inspiring a new generation of leaders in Africa and around the 
 world.\n\nPanel Discussion featuring Nunu Kidane, Network Coordinator with 
 Priority Africa Network\n\nCo-sponsors: The League of Women Voters Oakland, 
 Priority Africa Network, The International Museum of Women and Bay Area 
 Video Coalition.\n\nPresented By: ITVS Community Cinema, KQED Education 
 Network, The Oakland Museum of California, The Oakland Film Office and 
 Hands On Bay Area\n\n 
 https://www.indybay.org/newsitems/2008/01/08/18471094.php
SUMMARY:ITVS Community Cinema Presents IRON LADIES OF LIBERIA
LOCATION:Oakland Museum of California, James Moore Theatre\n1000 Oak Street at 10th 
 Street\nOne block from Lake Merritt Bart Station
URL:https://www.indybay.org/newsitems/2008/01/08/18471094.php
DTSTART:20080206T023000Z
DTEND:20080206T043000Z
END:VEVENT
END:VCALENDAR
