BEGIN:VCALENDAR
VERSION:2.0
X-WR-CALNAME:www.indybay.org
PRODID:-//indybay/ical// v1.0//EN
BEGIN:VEVENT
UID:Indybay-18470810
SEQUENCE:18493366
CREATED:20080107T203400Z
DESCRIPTION:TRANSFORMATIVE TANTRA INTRODUCTORY EVENING\nFriday, February 1, 2008\n7 - 
 10 PM \n\nMeet the authors Barbara Carrellas and Dossie Easton for an 
 evening of chat and some experimental journeys in breath and consciousness. 
 Get a taste of the weekend to come, satisfy your curiosity about Tantra and 
 other energy-focused sexual paths, and discover how Tantra can help you 
 unleash some unique abilities within yourself. Persons who have no 
 experience in Tantra who intend to attend the full Transformative Tantra 
 weekend (2-3 February at Sex & Culture) are particularly encouraged to 
 attend this evening, but all are welcome to join us for a taste of 
 Tantra.\n\n https://www.indybay.org/newsitems/2008/01/07/18470810.php
SUMMARY:TRANSFORMATIVE TANTRA INTRODUCTORY EVENING
LOCATION:Center for Sex and Culture, 1519 Mission St., Suite 1, San Francisco 
URL:https://www.indybay.org/newsitems/2008/01/07/18470810.php
DTSTART:20080202T030000Z
DTEND:20080202T060000Z
END:VEVENT
END:VCALENDAR
