BEGIN:VCALENDAR
VERSION:2.0
X-WR-CALNAME:www.indybay.org
PRODID:-//indybay/ical// v1.0//EN
BEGIN:VEVENT
UID:Indybay-18469912
SEQUENCE:18492371
CREATED:20080104T061200Z
DESCRIPTION:KAMALAYANG MUSIKA: an evening of Filipino music and cultural expressions 
 for change\n\n\nSaturday, January 26, 2008\n@ Bayanihan Community 
 Center\n1010 Mission St. Suite B, San Francisco CA 94103 (near civic center 
 BART)\n\n\nDoors open 6pm, performances 630-930pm\nTickets: $12 
 youth/senior, $14 pre-event, $15-$35 at the door\nContact: 
 info@facessolidarity.org, or call 808-896-7299\n\n\nThe Filipino/American 
 Coalition for Environmental Solidarity (FACES) hosts an evening of 
 multi-genre Filipino world music and cultural expressions. Featured 
 performances from acclaimed Ang Grupong Pendong (formerly of the legendary 
 Filipino folk rock group Asin), Autonomous Region, and Kulintronica thread 
 sounds of the pre-colonial kulintang (brass gong) and thirteen-stringed 
 oktavina into a contemporary mix of rock, electronica, and more. With 
 spoken word from guest poet Aimee Suzara.\n\n\nProceeds support women's 
 rights and environmental justice organizations in the Philippines and 
 FACES.\n\n\nFor more information, email: info@facessolidarity.org and visit 
 www.facessolidarity.org and 
 www.myspace.com/facessolidarity.org\nhttp://www.facessolidarity.org\n\n\n\n\n\n\n 
 https://www.indybay.org/newsitems/2008/01/03/18469912.php
SUMMARY:"Kamalayang Musika: Filipino World Music Benefit"
LOCATION:Bayanihan Community Center\n1010 Mission St. Suite B, San Francisco CA 
 94103 (near civic center BART)
URL:https://www.indybay.org/newsitems/2008/01/03/18469912.php
DTSTART:20080127T024500Z
DTEND:20080127T054500Z
END:VEVENT
END:VCALENDAR
