BEGIN:VCALENDAR
VERSION:2.0
X-WR-CALNAME:www.indybay.org
PRODID:-//indybay/ical// v1.0//EN
BEGIN:VEVENT
UID:Indybay-18468996
SEQUENCE:18491194
CREATED:20071227T170800Z
DESCRIPTION:Santa Cruzers for Kucinich will be\nmeeting Thursdays from 7pm to 9pm, 
 upstairs at the\nResource Center for Non-Violence, 515 Broadway, 
 Santa\nCruz, across from the Art League three doors up from\nOcean 
 St.\n\nCome by with friends, energy, and ideas to help get\nout the vote 
 for Dennis in the Caifornia Primary Feb.\n5th.  Pick up signs, 
 bumperstickers, pins, and\nliterature to spread the word and raise funds 
 for the\ncampaign.\n\nSee you there!\n\nWalt\n831-728-7090\n\n 
 https://www.indybay.org/newsitems/2007/12/27/18468996.php
SUMMARY:Kucinich Volunteer Meetings!
LOCATION:515 Broadway, Santa Cruz, upstairs at the Resource Center for Non-Violence, 
 across froom the Art League, three doors up from Ocean St.
URL:https://www.indybay.org/newsitems/2007/12/27/18468996.php
DTSTART:20071228T030000Z
DTEND:20071228T050000Z
END:VEVENT
END:VCALENDAR
