BEGIN:VCALENDAR
VERSION:2.0
X-WR-CALNAME:www.indybay.org
PRODID:-//indybay/ical// v1.0//EN
BEGIN:VEVENT
UID:Indybay-18468184
SEQUENCE:18490122
CREATED:20071221T041700Z
DESCRIPTION:"Hey friends, there will be a Winter Solstice Party at the Oak Grove on 
 Sunday December 23rd at 2pm. \nPLUS, we're asking everyone to bring lots of 
 food and water. Songs, merriment, and perhaps some mistletoe - you don't 
 mind if your Gramma gives you a peck on the cheek, do you?\n \nCome on by 
 and party with the Grannnies at the Oak Grove! \nMr. and Mrs. Santa Oak 
 might even make an appearance.\n\nPlease bring instruments and universal 
 songs of peace, joy, and hope (and any carols with green/forest protection 
 lyrics). Bring small gifts to share with one another, the security guards 
 and the UCPD, lifted high by the spirit of gratitude and love."\n\n 
 https://www.indybay.org/newsitems/2007/12/20/18468184.php
SUMMARY:Memorial Oak Grove Winter Solstice Party
LOCATION:come to the Memorial Oak Grove on Claremont at the top of Bancroft Way in 
 Berkeley and a bit North of International House
URL:https://www.indybay.org/newsitems/2007/12/20/18468184.php
DTSTART:20071223T220000Z
DTEND:20071224T000000Z
END:VEVENT
END:VCALENDAR
