BEGIN:VCALENDAR
VERSION:2.0
X-WR-CALNAME:www.indybay.org
PRODID:-//indybay/ical// v1.0//EN
BEGIN:VEVENT
UID:Indybay-18467413
SEQUENCE:18489160
CREATED:20071217T061200Z
DESCRIPTION:Sahaja Yoga program in Fremont , Tuesday 18th Dec, 2007, at 7:00 pm 
 (Fremont 
 )\n\n-----------------------------------------------------------------------------\nFremont 
 Main Library \n\n2400 Stevenson Blvd., \nFremont, California 94538 \n\nFree 
 - Sahaja Yoga meditation program on December 18, Tuesday, at Fremont Main 
 Library (2400 Stevenson Blvd, Fremont, CA 94538 ) from 7 pm to 8:45pm. 
 \n-Fremont Sahaja Yoga organizers \n\n\nHomepage \nhttp://www.bayyoga.org 
 \n\nRegular Weekly meetings in Fremont (Free): 
 \n----------------------------------------------------\n\nCenterville 
 Community Center \n3355 Country Drive, Fremont, CA 94536 \nEvery Saturday, 
 11:15 am – 12:15pm \nTel: 415-710-7735 \nEmail: bayyoga@yahoo.com  \n 
 https://www.indybay.org/newsitems/2007/12/16/18467413.php
SUMMARY:Sahaja Yoga program in Fremont , Tuesday 18th Dec, 2007, at 7:00 pm (Fremont)
LOCATION:Fremont Main Library,\n2400 Stevenson Blvd., \nFremont, California 94538 
URL:https://www.indybay.org/newsitems/2007/12/16/18467413.php
DTSTART:20071219T030000Z
DTEND:20071219T043000Z
END:VEVENT
END:VCALENDAR
