BEGIN:VCALENDAR
VERSION:2.0
X-WR-CALNAME:www.indybay.org
PRODID:-//indybay/ical// v1.0//EN
BEGIN:VEVENT
UID:Indybay-18465983
SEQUENCE:18487520
CREATED:20071210T025400Z
DESCRIPTION:Sunday Dec 23   1:00\nBerkeley Fellowship of Unitarian Universalists\n1924 
 Cedar St. (a block east of MLK Jr. Way), Berkeley 94709\nMrs. Santa Claus!  
  In person and on film!\nSmall children may sit on Mrs.Claus's lap and 
 children of all ages may tell Mrs. Claus what gifts they want for the 
 winter holidays.  Mrs. Claus may suggest that, after personal wishes, they 
 might also ask for world peace, a healthy planet, comfort and an equal 
 chance for all people, etc.  Then we'll pull down the shades and screen the 
 90 minute feature film, "Mrs. Santa Claus," a wonderful multicultural 
 musical starring Angela Lansbury as a sparkling Mother Jones type who 
 organizes exploited child laborers in NY toy factories to strike. Will she 
 get the sleigh back in time for Santa's big night?\n"Absolutely Endearing." 
 --Chatanooga Free Press.\nA BFUU Social Justice Committee Conscientious 
 Projector Film\nWelcome all!  Free!\nThe musical score for Mrs. Santa Claus 
 was written by Jerry Herman, the celebrated Broadway composer of such hit 
 musicals as Hello, Dolly!\nThe movie is set in 1910. Mrs. Santa Claus tries 
 to convince hubby to take a new route, but he is preoccupied with the 
 holiday rush and won't listen. Disgruntled, she takes the sleigh out 
 herself, but is forced to land in New York City, where she is stranded. She 
 takes up board with a family of Jewish immigrants who celebrate Chanukah 
 instead of Christmas. She befriends other locals, too, and becomes involved 
 with political issues of the period such as child labor and women's 
 suffrage. A magical adventure for all ages.\nwheelchair 
 access\nwww.bfuu.org\n510-841-4824    \n\n 
 https://www.indybay.org/newsitems/2007/12/09/18465983.php
SUMMARY:Mrs. Santa Claus! In person and on film!
LOCATION:Berkeley Fellowship of Unitarian Universalists\n1924 Cedar St. (a block 
 east of MLK Jr. Way), Berkeley 94709\n
URL:https://www.indybay.org/newsitems/2007/12/09/18465983.php
DTSTART:20071223T210000Z
DTEND:20071224T000000Z
END:VEVENT
END:VCALENDAR
