BEGIN:VCALENDAR
VERSION:2.0
X-WR-CALNAME:www.indybay.org
PRODID:-//indybay/ical// v1.0//EN
BEGIN:VEVENT
UID:Indybay-18465170
SEQUENCE:18486585
CREATED:20071205T000500Z
DESCRIPTION:Wounded Spirits, an art show by Cynthia Manuszak honoring homeless women 
 will be held at Margaret Hudson’s studio at 1946 E Swift.\n\nThis will be 
 a wonderful event to benefit homelessness among women and children. 
 Margaret Hudson’s Gallery is located at 1936 E. Swift Ave near Ashlan and 
 41. Coming off 41 take the Ashlan exit going west and your first right on 
 Effie. Than make another right on Swift Ave. \n\nLocal artists will be 
 displaying and selling art for this cause bringing the art to the backyard 
 where hot refreshments will be served. Live art and a vigil for Pamela 
 Kincaid will also be present.  Margaret will have a beautiful display in 
 her gallery and studio.  There will be live entertainment (Tanjora Tribal 
 Belly Dance and songs by local musicians).  Desert will also be served in 
 the pottery studio.  Contact information: Cynthia 559 709 2263\n\n 
 https://www.indybay.org/newsitems/2007/12/04/18465170.php
SUMMARY:Wounded Spirits
LOCATION:Margaret Hudson’s studio at 1946 E Swift.
URL:https://www.indybay.org/newsitems/2007/12/04/18465170.php
DTSTART:20071208T010000Z
DTEND:20071208T040000Z
END:VEVENT
END:VCALENDAR
