BEGIN:VCALENDAR
VERSION:2.0
X-WR-CALNAME:www.indybay.org
PRODID:-//indybay/ical// v1.0//EN
BEGIN:VEVENT
UID:Indybay-18464955
SEQUENCE:18486609
CREATED:20071203T213100Z
DESCRIPTION:Contract letting for construction companies to build the NAFTA highway is 
 set to begin in April, and groundbreaking could happen soon after that. 
 With the threat of construction on the superhighway quickly becoming a 
 reality, it is more important now than ever to continue discussions of 
 resistance to I-69.\n\nCome to Tucson to join folks from Indiana in a 
 discussion of resistance strategies and logistics around the impending 
 construction and learn how you can be part of the struggle. \n\nThe 
 consulta will take place at 2:00pm Sunday, December 9th at the Dry River 
 Infoshop in Tucson, AZ. De-centralization, good communication, and 
 solidarity are key for effective resistance! \nPlease RSVP to 
 Roadblockef@yahoo.com\n\n 
 https://www.indybay.org/newsitems/2007/12/03/18464955.php
SUMMARY:Interstate 69 Southwestern strategy consulta
LOCATION:Dry River Infoshop in Tucson, AZ
URL:https://www.indybay.org/newsitems/2007/12/03/18464955.php
DTSTART:20071209T220000Z
DTEND:20071210T010000Z
END:VEVENT
END:VCALENDAR
