BEGIN:VCALENDAR
VERSION:2.0
X-WR-CALNAME:www.indybay.org
PRODID:-//indybay/ical// v1.0//EN
BEGIN:VEVENT
UID:Indybay-18463840
SEQUENCE:18485017
CREATED:20071127T153400Z
DESCRIPTION:From http://www.sfgreenparty.org/\n\nFriday\n11/30/07\n7:00PM-\n9:00PM 
 	MARK SANCHEZ for DISTRICT 
 9\n\nhttp://www.gonzalezleigh.com/index.html\nSan Francisco, CA 
 94105\n(415) 512-2000\nwww.s137783363.onlinehome.us/ind... \n\nIt's 
 official! Mark Sanchez for District 9 Supervisor, and we need your 
 support.\n\nMark Sanchez is an experienced policy maker who has 
 successfully moved a progressive agenda for the last seven years on the San 
 Francisco Board of Education. Now he's taking his experience and skills to 
 the Board of Supervisors. It's a win for District 9 and a win for the City. 
 The residents of D9 need a candidate who shares their progressive values 
 and has the breadth of experience to address their most urgent needs and 
 better their quality of life. Mark Sanchez has proven himself over and over 
 to be unwavering candidate for the people.\n\nPlease join us for an evening 
 of food, drinks, and politics. Join Mark Sanchez, Matt Gonzalez, and 
 friends to help make San Francisco a city of which we can all be 
 proud.\n\nAll Green Party meetings are at the SFGP office unless otherwise 
 noted.\n\nPlease rsvp\nSANCHEZ '08\n2762 ½ 22 St.\nSan Francisco\n\nput up 
 by \n https://www.indybay.org/newsitems/2007/11/27/18463840.php
SUMMARY:SF Green Party{MARK SANCHEZ for DISTRICT 9}Hosted by Matt Gonzalez
LOCATION:At the law offices of Gonzalez and Leigh, LLP\n2 Shaw Alley\n
URL:https://www.indybay.org/newsitems/2007/11/27/18463840.php
DTSTART:20071201T030000Z
DTEND:20071201T050000Z
END:VEVENT
END:VCALENDAR
