BEGIN:VCALENDAR
VERSION:2.0
X-WR-CALNAME:www.indybay.org
PRODID:-//indybay/ical// v1.0//EN
BEGIN:VEVENT
UID:Indybay-18463724
SEQUENCE:18484911
CREATED:20071126T231600Z
DESCRIPTION:No End in Sight is the first film of its kind to chronicle the reasons 
 behind Iraq’s descent into guerilla war, warlord rule, criminality, and 
 anarchy.  It is a jaw-dropping insider’s tale of wholesale incompetence, 
 recklessness, and venality. \n\nBased on over two hundred hours of footage, 
 the film provides a candid retelling of the events following the fall of 
 Baghdad in 2003 by high-ranking officials such as former Deputy Secretary 
 of State Richard Armitage, Ambassador Barbara Bodine (in charge of Baghdad 
 during the Spring of 2003), Lawrence Wilkerson, former Chief of Staff to 
 Colin Powell, and General Jay Garner (in charge of the occupation of Iraq 
 through May 2003), as well as Iraqi civilians, American soldiers, and 
 prominent analysts. \n\nNo End in Sight examines how the principal errors 
 of U.S. policy – insufficient troop levels, allowing the looting of 
 Baghdad, the purging of professionals from the Iraqi government, and the 
 disbanding of the Iraqi military – largely created the insurgency and 
 chaos that engulf Iraq today. \n\nHow were a group of men with little or no 
 military experience, knowledge of the Arab world, nor personal experience 
 in Iraq allowed to make such flagrantly debilitating decisions? No End in 
 Sight dissects the people, issues, and facts behind the Bush 
 Administration’s decisions and their consequences on the ground to 
 provide a powerful look into how arrogance and ignorance turned a military 
 victory into a seemingly endless and deepening nightmare of a war. \n\n$5 
 to $10 suggested donation.  Sponsored by Peninsula Peace and Justice 
 Center.\n\n\n https://www.indybay.org/newsitems/2007/11/26/18463724.php
SUMMARY:Film: "No End in Sight"
LOCATION:Fellowship Hall, First Baptist Church \n305 North California Avenue, Palo 
 Alto \n(Wheelchair accessible)
URL:https://www.indybay.org/newsitems/2007/11/26/18463724.php
DTSTART:20071212T033000Z
DTEND:20071212T050000Z
END:VEVENT
END:VCALENDAR
