BEGIN:VCALENDAR
VERSION:2.0
X-WR-CALNAME:www.indybay.org
PRODID:-//indybay/ical// v1.0//EN
BEGIN:VEVENT
UID:Indybay-18463620
SEQUENCE:18484764
CREATED:20071126T154900Z
DESCRIPTION:Even if you feel like you have to take advantage of of the sales, I think 
 you can pose  the ?, what do you need, and what do you want,  to buy, which 
 can be hard to say sometimes. - And who makes those goods, which get for 
 such a relative cheap price - so if can buy Fair-Trade products Today If 
 You Can- David Quinley\n\nput up by \n 
 https://www.indybay.org/newsitems/2007/11/26/18463620.php
SUMMARY:Say No To Cyber Monday-If You Feel You Haft To Buy-Try To Buy Fair Trade
LOCATION:What is most important to you
URL:https://www.indybay.org/newsitems/2007/11/26/18463620.php
DTSTART:20071127T040000Z
DTEND:20071127T080000Z
END:VEVENT
END:VCALENDAR
