BEGIN:VCALENDAR
VERSION:2.0
X-WR-CALNAME:www.indybay.org
PRODID:-//indybay/ical// v1.0//EN
BEGIN:VEVENT
UID:Indybay-18463462
SEQUENCE:18484590
CREATED:20071125T214700Z
DESCRIPTION:(See below for Wednesday Special Event)\n\nBreak the Silence Arts and Mural 
 Project Presents:\n\nINTERNAL EXILE: from Palestine to the USA to Mexico, a 
 multimedia exhibit connecting the experiences of indigenous people in 
 colonized nations, who, despite separations of great distances, share 
 legacies of survival and resistance against being rendered invisible in 
 their own land featuring Palestinian, Israeli, Bedouin, Native, Chicano and 
 Latino artists:\n\nEnds this Friday, NOVEMBER 30th\nSOMARTS Bay 
 Gallery\n934 Brannan Street, San Francisco\nFinal days: Tuesday-Friday 2 
 p.m. – 8 p.m.\n(Closed Sunday and Monday)\nNo charge for gallery 
 admission.\n\nIncluding art by local and international artists: Tal Adler, 
 Zeina Barakeh, Jesus Barraza, Richard Castaneda, Sergio De La Torre, Hanah 
 Diab, John Halaka, Catherine Herrera, America Meredith, Sean Nash, Favianna 
 Rodriguez, Charlene Sul and Hulleah J. Tsinhnahjinnie\n\n>>> Wednesday, 
 November 28th 6:30 – 9 p.m. <<<\nSpecial event featuring Rabia Abu Rabia 
 from the Bedouin Council of Unrecognized Villages, and bringing together 
 organizers, the artists and organizations involved for a dynamic 
 conversation around the struggle against on-going colonialism, as well as 
 to explore different understandings or experiences of 'internal exile'. 
 Join us for this cross movement building opportunity to put forward a 
 vision for mutual support and future collaboration.\n$5-$10 suggested 
 donation. No one turned away.\n\nCosponsors: Arab and Muslim Ethnicities 
 and Diasporas Initiative (AMED), Break the Siege (BTS), Flashpoints-KPFA 
 94.1FM, Forrealism, General Union of Palestine Students (GUPS), Middle East 
 Children's Alliance (MECA), Northern California International Solidarity 
 Movement (ISM) and Zawaya.\n\nIf you have any questions about the exhibit 
 or how to support, please contact Susan at: 415-271-0576 or go to 
 www.breakthesilencearts.typepad.com\n 
 https://www.indybay.org/newsitems/2007/11/25/18463462.php
SUMMARY:Bedouin activist at INTERNAL EXILE art exhibit
LOCATION:SOMARTS Bay Gallery\n934 Brannan Street, San Francisco\n
URL:https://www.indybay.org/newsitems/2007/11/25/18463462.php
DTSTART:20071129T023000Z
DTEND:20071129T050000Z
END:VEVENT
END:VCALENDAR
