BEGIN:VCALENDAR
VERSION:2.0
X-WR-CALNAME:www.indybay.org
PRODID:-//indybay/ical// v1.0//EN
BEGIN:VEVENT
UID:Indybay-18463196
SEQUENCE:18484311
CREATED:20071124T142500Z
DESCRIPTION:Discuss Chapter 16 in A People’s History of the United States by Howard 
 Zinn at 7 p.m. on Tues., Nov. 27. To get the book, contact Time Tested 
 Books at (916) 447-5696. The Marxist School of Sacramento is the sponsor of 
 this free, public discussion. \n\n\n\n 
 https://www.indybay.org/newsitems/2007/11/24/18463196.php
SUMMARY:Discuss A People’s History of the United States
LOCATION:Room 11, Sierra 2 Center, 2791 24th St., Sacramento  \n
URL:https://www.indybay.org/newsitems/2007/11/24/18463196.php
DTSTART:20071128T030000Z
DTEND:20071128T050000Z
END:VEVENT
END:VCALENDAR
