BEGIN:VCALENDAR
VERSION:2.0
X-WR-CALNAME:www.indybay.org
PRODID:-//indybay/ical// v1.0//EN
BEGIN:VEVENT
UID:Indybay-18462177
SEQUENCE:18483170
CREATED:20071119T200800Z
DESCRIPTION:ITVS Community Cinema invites you to a double feature of MAPPING STEM CELL 
 RESEARCH: TERRA INCOGNITA and STEM CELL GOLD RUSH to investigate the 
 potential for medical breakthroughs and how the Bay Area is leading the 
 way. A panel discussion will follow to uncover the key debates surrounding 
 bioethics and new medicine.\n\nMAPPING STEM CELL RESEARCH: TERRA INCOGNITA 
 by Maria Finitzo\n\nSome consider stem cell research the Holy Grail of 
 regenerative medicine.  Others view the idea as morally wrong.  But what 
 would you do if your child became paralyzed from the waist down and you had 
 access to the research that might allow them to walk again one day? These 
 are questions our society continues to grapple with.  Follow a respected 
 neurologist into the unknown territory of stem cell research.\n\nFeaturing 
 Stem Cell Gold Rush, a 10 min. Short-Documentary from QUEST, KQED’s 
 Science, Nature and Environment Series\n\nPanel Discussion Featuring Panel 
 Discussion Featuring Deepak Srivastava, M.D. Director, Gladstone Institute 
 of Cardiovascular Disease and Don Reed Patient Advocate with Americans For 
 Cures\n\nPresented By ITVS Community Cinema, KQED Education Network, The 
 San Francisco Public Library and Hands on Bay Area. Co-sponsored by QUEST, 
 KQED's  Science, Nature and Environment Series, The J. David Gladstone 
 Institutes, ACCESS SF and Bay Area Video Coalition\n\n 
 https://www.indybay.org/newsitems/2007/11/19/18462177.php
SUMMARY:ITVS Community Cinema Presents MAPPING STEM CELL RESEARCH: TERRA INCOGNITA
LOCATION:San Francisco Main Public Library, Koret Auditorium\n100 Larkin 
 Street\nCivic Center BART \n
URL:https://www.indybay.org/newsitems/2007/11/19/18462177.php
DTSTART:20071212T013000Z
DTEND:20071212T033000Z
END:VEVENT
END:VCALENDAR
