BEGIN:VCALENDAR
VERSION:2.0
X-WR-CALNAME:www.indybay.org
PRODID:-//indybay/ical// v1.0//EN
BEGIN:VEVENT
UID:Indybay-18461609
SEQUENCE:18482868
CREATED:20071116T194700Z
DESCRIPTION:On May 5th 2006, six community organizers were arrested while holding a 
 rally on immigration and police brutality.  The event was supposed to end 
 with a mass copwatch campaign but was interupted by the SJPD in Riot 
 Gear.\n\nThe trial begins on November 26th a 9am.  We plan to hold a press 
 conference in front of the Hall of (in)Justice with community 
 organizations.\n\nThe first to attend Trial is Carlos Padilla, a long time 
 community organizer in San Jose.  He now lives in the SACRAMENTO AREA as a 
 Labor Organizer.\n\nAnyone interested in fighting police brutality and 
 ensuring the right to observation should attend.\n\nWe need to send a clear 
 message to Police everywhere that we (the people) will not stand for Police 
 Brutality and will fight to end it.\n\nDrop the Charges on The East Side 
 Six\n https://www.indybay.org/newsitems/2007/11/16/18461609.php
SUMMARY:Sacramento Resident on trial in San Jose/ Stop Police Brutality
LOCATION:The Hall of (in)justice nest to San Jose City Jail and near the Government 
 Center on Hedding
URL:https://www.indybay.org/newsitems/2007/11/16/18461609.php
DTSTART:20071126T170000Z
DTEND:20071126T210000Z
END:VEVENT
END:VCALENDAR
