BEGIN:VCALENDAR
VERSION:2.0
X-WR-CALNAME:www.indybay.org
PRODID:-//indybay/ical// v1.0//EN
BEGIN:VEVENT
UID:Indybay-18460994
SEQUENCE:18481760
CREATED:20071114T090100Z
DESCRIPTION:Join Rainforest Action Network, Coal River Mountain Watch, Appalachian 
 Voices , Rising Tide, Mountain Justice Summer, SEAC , Energy Justice 
 Network and a cast of thousands as we mobilize to stop Bank of America and 
 Citi's investments climate change and the dirty coal industry!\n\nOn 
 November 16th and 17th  we are asking anyone and everyone concerned with 
 stopping the US coal rush to join us in taking the message to Wall Street. 
 From flyering and leafletting at your local bank branch or ATM, to creative 
 street theater or non-violent direct action at bank offices - help our 
 climate and communities by demanding clean energy!\n 
 https://www.indybay.org/newsitems/2007/11/14/18460994.php
SUMMARY:Day of Action Against Coal Finance
LOCATION:San Francisco\nWHAT:bank of america/citi tour of shame\nWHERE: 221 
 Pine\nWHEN:Nov 16; 12pm\nCONTACT: Scott;dirtymoney@ran.org
URL:https://www.indybay.org/newsitems/2007/11/14/18460994.php
DTSTART:20071116T200000Z
DTEND:20071116T200000Z
END:VEVENT
END:VCALENDAR
