BEGIN:VCALENDAR
VERSION:2.0
X-WR-CALNAME:www.indybay.org
PRODID:-//indybay/ical// v1.0//EN
BEGIN:VEVENT
UID:Indybay-18458458
SEQUENCE:18478638
CREATED:20071106T055800Z
DESCRIPTION:Friday November 16, 7:00 pm\n"WHEN THE LEVEES BROKE: AN AMERICAN 
 TRAGEDY"\nBerkeley Fellowship Unitarian Universalists Hall\n1924 Cedar at 
 Bonita (1 block east of MLK Way)\nSpike Lee's HBO Documentary: A Requiem in 
 Four Acts\nWe showed the first two Acts in Sept and now will show\nthe 
 equally powerful last half followed by discussion.\n"Most people think that 
 it was Katrina that brought about the \ndevastation of New Orleans. But it 
 was a breaching of the levees that \nput 80% of the city under water." 
 Spike Lee\nThe Conscientious Projector Film Series is produced by BFUU's 
 Social \nJustice Committee.\nWheel chair accessible.\nDonations requested. 
 No one turned away.\n\n 
 https://www.indybay.org/newsitems/2007/11/05/18458458.php
SUMMARY:Screening of "When the Levees Broke"
LOCATION:Berkeley Fellowship Unitarian Universalists Hall\n1924 Cedar at Bonita (1 
 block east of MLK Way)\n
URL:https://www.indybay.org/newsitems/2007/11/05/18458458.php
DTSTART:20071117T030000Z
DTEND:20071117T060000Z
END:VEVENT
END:VCALENDAR
