BEGIN:VCALENDAR
VERSION:2.0
X-WR-CALNAME:www.indybay.org
PRODID:-//indybay/ical// v1.0//EN
BEGIN:VEVENT
UID:Indybay-18457974
SEQUENCE:18478426
CREATED:20071103T181700Z
DESCRIPTION:Harry Young is a black farmer whose land was sold in a contested auction 2 
 years ago.  He and others say the foreclosure is part of a series of 
 illegal land seizures affecting family farmers of all ethnicities.  This is 
 a teach in, an informational event designed to expose this atrocity in a 
 peaceful, law abiding, constitutionally protected fashion.  This will be 
 the 3rd protest in Kentucky over this issue.\n 
 https://www.indybay.org/newsitems/2007/11/03/18457974.php
SUMMARY:Protest against bogus farm foreclosure
LOCATION:USDA is meeting with farmers on Kentucky State University in Frankfort, KY. 
  As of this writing, officials are trying to shove protesters to campus 
 football stadium. Legal action pending
URL:https://www.indybay.org/newsitems/2007/11/03/18457974.php
DTSTART:20071115T180000Z
DTEND:20071115T200000Z
END:VEVENT
END:VCALENDAR
