BEGIN:VCALENDAR
VERSION:2.0
X-WR-CALNAME:www.indybay.org
PRODID:-//indybay/ical// v1.0//EN
BEGIN:VEVENT
UID:Indybay-18457314
SEQUENCE:18478289
CREATED:20071031T081800Z
DESCRIPTION:Other Magazine Turns 5! Benefit Show featuring Victor Krummenacher!\n\nThe 
 magazine of pop culture and politics for the new outcasts is celebrating 
 its fifth birthday. We're also releasing issue #13, the "Dead Magazines" 
 issue. To celebrate both things, we're throwing a party, featuring:\n\n- 
 Victor Krummenacher (Camper Van Beethoven)\n- Ukeapocalypse (Kelly 
 McCubbin) featuring 5 Cent Coffee\n- Hazy Loper\n- DJ Joel Schalit\n- Art 
 from other magazine on display\n\nWhere: CounterPULSE Gallery, 1310 Mission 
 St. @ 9th., San Francisco\nWhen: Sunday, Nov. 18, from 7 PM to 11 PM How 
 much: $7 to $10 sliding, $10 gets you new issue of other magazine. (No-one 
 turned away for lack of funds. All proceeds benefit other 
 magazine.)\n\nAbout the "Dead Magazines" issue of other magazine: Other 
 magazine celebrates the great magazines that have passed on. Articles 
 include an inside look at Punk Planet, the original Bitch magazine and 
 several magazine editors tell how DIY publishing ruined their 
 lives.\n\nAbout other: Other magazine is for people who defy categories. We 
 print everything from genre-busting fiction, journalism, and essays, to 
 cartoons, artwork, and innovative graphic design. Every four months, our 
 writers bring you challenging ideas, wild tales, rebel futurism, global 
 media, pop criticism, and indie idealism.\n\n 
 https://www.indybay.org/newsitems/2007/10/31/18457314.php
SUMMARY:other magazine release party with Victor Krummenacher
LOCATION:CounterPULSE Gallery, 1310 Mission St, SF
URL:https://www.indybay.org/newsitems/2007/10/31/18457314.php
DTSTART:20071119T030000Z
DTEND:20071119T070000Z
END:VEVENT
END:VCALENDAR
