BEGIN:VCALENDAR
VERSION:2.0
X-WR-CALNAME:www.indybay.org
PRODID:-//indybay/ical// v1.0//EN
BEGIN:VEVENT
UID:Indybay-18456997
SEQUENCE:18476810
CREATED:20071030T052900Z
DESCRIPTION:On Saturday November 3rd, healthcare workers  from Santa Rosa Memorial 
 hospital will be marching to their hospital for the right to organize their 
 union. Workers rights to organize have been under attack for many years, 
 and Santa Rosa Workers want to march to show that workers want to organize 
 their union in a free and fair environment. \n\nJoin your local health care 
 workers, prominent community members, and local religious leaders to tell 
 the Sisters of St. Joseph that they should respect their workers voices and 
 negotiate a free and fair election agreement. \n 
 https://www.indybay.org/newsitems/2007/10/29/18456997.php
SUMMARY:March And Rally For HealthCare Worker Rights
LOCATION:We will meet at Fremont Park in Santa Rosa. Located on the corner of 
 Brookwood and 4th St, right across from the Big O Tires.
URL:https://www.indybay.org/newsitems/2007/10/29/18456997.php
DTSTART:20071103T180000Z
DTEND:20071103T193000Z
END:VEVENT
END:VCALENDAR
