BEGIN:VCALENDAR
VERSION:2.0
X-WR-CALNAME:www.indybay.org
PRODID:-//indybay/ical// v1.0//EN
BEGIN:VEVENT
UID:Indybay-18456803
SEQUENCE:18476551
CREATED:20071029T053900Z
DESCRIPTION:Monday, October 29, 6 PM. http://www.marin.org\n\nMarin Peace and Justice 
 Coalition and the First United Methodist Church of San Rafael presents 
 their monthly free Town Forum & Potluck The presentation will include a 
 showing of the new documentary film "Invasion of the Big Box Chains" with 
 filmmaker Paul Francis in person. Ben Boyce, Staff Coordinator of the 
 Living Wage Coalition of Sonoma County, will introduce the evening with a 
 talk entitled "Community Impact Reports - Local vs Non-Local Economies." 
 Come learn about the Target store proposed for construction next to Home 
 Depot in San Rafael. The potluck starts at 6pm, and the talk at 7:15pm. 
 This event will be held in the basement of the church which is wheelchair 
 accessible. Please refrain from wearing scented products. .\n\nput up by \n 
 https://www.indybay.org/newsitems/2007/10/28/18456803.php
SUMMARY:fairfax creek road bridge traffic subcommittee meet
LOCATION:fairfax womens club\n
URL:https://www.indybay.org/newsitems/2007/10/28/18456803.php
DTSTART:20071030T020000Z
DTEND:20071030T040000Z
END:VEVENT
END:VCALENDAR
