BEGIN:VCALENDAR
VERSION:2.0
X-WR-CALNAME:www.indybay.org
PRODID:-//indybay/ical// v1.0//EN
BEGIN:VEVENT
UID:Indybay-18456069
SEQUENCE:18477811
CREATED:20071026T023100Z
DESCRIPTION:David Barsamian\n\nPresenting\nTargeting Iran\nA collection of interviews 
 with foreign policy experts Noam Chomsky, Ervand Abrahamian, and Nahid 
 Mozaffari\n\nDavid Barsamian is the award-winning founder and director of 
 Alternative Radio, the independent weekly series based in Boulder, 
 Colorado. He is a radio producer, journalist, author, and lecturer. He has 
 been working in radio since 1978. His interviews and articles appear 
 regularly in The Progressive and Z Magazine.\n\nIran and the United States 
 are on a collision course. Barsamian presents the perspectives of three 
 experts on Iran and U.S. foreign policy who discuss the 1953 CIA coup and 
 the rise of the Islamic regime; Iran's internal dynamics and competing 
 forces; its relations with Iraq and Afghanistan; and the consequences of 
 U.S. policy.\n\n$7 - $15 suggested donation.  Copies of Targeting Iran will 
 be available for purchase and signing.\n\n 
 https://www.indybay.org/newsitems/2007/10/25/18456069.php
SUMMARY:David Barsamian presents _Targeting Iran_
LOCATION:Fellowship Hall, First Baptist Church\n305 N. California Ave., Palo 
 Alto\n(Wheelchair accessible)
URL:https://www.indybay.org/newsitems/2007/10/25/18456069.php
DTSTART:20071115T033000Z
DTEND:20071115T053000Z
END:VEVENT
END:VCALENDAR
