BEGIN:VCALENDAR
VERSION:2.0
X-WR-CALNAME:www.indybay.org
PRODID:-//indybay/ical// v1.0//EN
BEGIN:VEVENT
UID:Indybay-18455875
SEQUENCE:18475415
CREATED:20071025T142300Z
DESCRIPTION:  by local health-care providers include hearing and vision screening, 
 blood pressure checks, glucose testing, ear acupuncture, massage and 
 more.\n\n Part B card needed for flu shots\n\nlive entertainment, door and 
 raffle prizes and snacks.\n\nadd put up by \n 
 https://www.indybay.org/newsitems/2007/10/25/18455875.php
SUMMARY:Senior Novato Health Fair{free flu shots with Medicare]Other free services>entertainment<
LOCATION:Margaret Todd Senior CenteR
URL:https://www.indybay.org/newsitems/2007/10/25/18455875.php
DTSTART:20071025T160000Z
DTEND:20071025T190000Z
END:VEVENT
END:VCALENDAR
