BEGIN:VCALENDAR
VERSION:2.0
X-WR-CALNAME:www.indybay.org
PRODID:-//indybay/ical// v1.0//EN
BEGIN:VEVENT
UID:Indybay-18455784
SEQUENCE:18475311
CREATED:20071024T231900Z
DESCRIPTION:THURSDAY 25 OCTOBER @ 7  pm\nLISTENING PARTY:\nBrendan Lott presents recent 
 work\n$5 Public, $2 Students/Seniors, Free for Camerawork 
 Members\n\n\nBrendan Lott\n\nArtist Brendan Lott presents an enthusiastic 
 panoply\nof avant-garde, noise, death, math, doom, sludge, grind, stoner, 
 and art rock\n https://www.indybay.org/newsitems/2007/10/24/18455784.php
SUMMARY:Listening Party
LOCATION:657 Mission Street, 2nd Floor (between Third and New Montgomery)
URL:https://www.indybay.org/newsitems/2007/10/24/18455784.php
DTSTART:20071026T020000Z
DTEND:20071026T040000Z
END:VEVENT
END:VCALENDAR
