BEGIN:VCALENDAR
VERSION:2.0
X-WR-CALNAME:www.indybay.org
PRODID:-//indybay/ical// v1.0//EN
BEGIN:VEVENT
UID:Indybay-18455474
SEQUENCE:18474939
CREATED:20071023T145800Z
DESCRIPTION:The Tamalpais Community Services District board will meet from 8:30 to 9:45 
 a.m. Tuesday to discuss the location of garbage trucks and use of dump 
 trucks to pick up mulch in Bolinas.\n\nThe board will review county reports 
 on waste management policies and gas emissions.\n\nput up by \n 
 https://www.indybay.org/newsitems/2007/10/23/18455474.php
SUMMARY:Tamalpais Community Services Dist.{garbage trucks-waste management policie/gas emissions}
LOCATION:district office \n\nend of meeting a guess
URL:https://www.indybay.org/newsitems/2007/10/23/18455474.php
DTSTART:20071023T153000Z
DTEND:20071023T170000Z
END:VEVENT
END:VCALENDAR
