BEGIN:VCALENDAR
VERSION:2.0
X-WR-CALNAME:www.indybay.org
PRODID:-//indybay/ical// v1.0//EN
BEGIN:VEVENT
UID:Indybay-18455120
SEQUENCE:18474519
CREATED:20071022T054200Z
DESCRIPTION:Rally for Climate Solutions – The People Respond!\nSaturday November 3, 
 2007 – 2-4 p.m.  – Downtown Santa Cruz\n\nJoin the nationwide Step It 
 Up! 2007 campaign\nwww.stepitup2007.org\nReclaim the Commons!\nImagine 
 Ecotopia!\n\nHow many people in Santa Cruz County care about finding 
 solutions to global warming?\nWhat do we look like in one big photo? Can we 
 fill a city block downtown?\n\n2 p.m. -- We'll take over a block of Pacific 
 Ave with visions of sustainable Santa Cruz\n3 p.m. Join in a photo and take 
 a pledge!\n\nAre we Bigger than Boulder? Badder than Seattle?\n\nHow many 
 families and kids? How many Cabrillo College and UCSC students? How many 
 skaters, cyclists, public transportation devotees? How many church groups, 
 classrooms, soccer teams?\n(How many Santa Cruzans does it take to screw in 
 an energy efficient light bulb?)\n\nBring signs and banners and rally for 
 Climate Change Solutions\n– Our local leaders have signed a Climate 
 Action Compact –\n\nHow can We, The People build community now and 
 inspire action?\n\n\nSlideshow from the April 2007 action -- 1400 
 communities in all 50 states:\napril.stepitup2007.org\n\nValet Bike Parking 
 provided by People Power!\n\nwww.peoplepowersc.org\n\n\nWe’ll have a 
 giant calendar of upcoming Climate Solution Activities in the next few 
 months displayed at the event downtown. Find Out What’s Happening! If YOU 
 and YOUR GROUP have an eco-friendly event planned, add it to the 
 calendar!\n\nSponsored by a growing list of environmentally friendly groups 
 and businesses: People Power, Local Solutions to Global Problems, Ecology 
 Action, Collaborative Ventures, Eco Design Resources, Bill's Wheels, UCSC 
 Student Environmental Center, Capitola Freight and Salvage, Independent 
 Energy Systems, Santa Cruz Community Credit Union, Lightbulb Giveaway by 
 PG&E and the Green Resource Library.\n\nSpread the word with these handy 
 flyers (attached)\n 
 https://www.indybay.org/newsitems/2007/10/21/18455120.php
SUMMARY:Step It Up! Action to Stop Global Warming
LOCATION:Pacific Avenue in front of Bookshop Santa Cruz
URL:https://www.indybay.org/newsitems/2007/10/21/18455120.php
DTSTART:20071103T210000Z
DTEND:20071103T230000Z
END:VEVENT
END:VCALENDAR
