BEGIN:VCALENDAR
VERSION:2.0
X-WR-CALNAME:www.indybay.org
PRODID:-//indybay/ical// v1.0//EN
BEGIN:VEVENT
UID:Indybay-18454451
SEQUENCE:18473656
CREATED:20071017T230100Z
DESCRIPTION:(Jef Mercelis will not perform tonite.) Los Shoegazers is the Oakland 
 warehouse scene's premier "Indie Mock" band and Mezklah is a Latin 
 Alternative drum & bass duo from L.A., featuring Angel Garcia, vocalist, 
 songwriter and visual artist and Greg Hernandez, guitarist.\n 
 https://www.indybay.org/newsitems/2007/10/17/18454451.php
SUMMARY:Los Shoegazers and Mezklah
LOCATION:La Peña Cultural Center\n3105 Shattuck Ave.\nBerkeley, Ca 94705
URL:https://www.indybay.org/newsitems/2007/10/17/18454451.php
DTSTART:20071019T030000Z
DTEND:20071019T060000Z
END:VEVENT
END:VCALENDAR
