BEGIN:VCALENDAR
VERSION:2.0
X-WR-CALNAME:www.indybay.org
PRODID:-//indybay/ical// v1.0//EN
BEGIN:VEVENT
UID:Indybay-18454394
SEQUENCE:18473588
CREATED:20071017T180100Z
DESCRIPTION:Tam Design Review panel to hear report on policy\n\nThe Tam Design Review 
 Board will meet at 7 p.m. Wednesday to hear a county planning department 
 presentation on design review policy.\n\nThe board will consider design 
 review of properties on Vernal Way and Montford Avenue.\n\n\n\nadd put up 
 \n https://www.indybay.org/newsitems/2007/10/17/18454394.php
SUMMARY:Tam Design Review Meeting{Mill Valley}
LOCATION:end a guess\n\nThe meeting will be at the Log Cabinat 
URL:https://www.indybay.org/newsitems/2007/10/17/18454394.php
DTSTART:20071018T020000Z
DTEND:20071018T040000Z
END:VEVENT
END:VCALENDAR
