BEGIN:VCALENDAR
VERSION:2.0
X-WR-CALNAME:www.indybay.org
PRODID:-//indybay/ical// v1.0//EN
BEGIN:VEVENT
UID:Indybay-18454190
SEQUENCE:18473325
CREATED:20071016T070000Z
DESCRIPTION:Lt. Watada is facing a hearing today that may determine whether he is 
 forced to go to trial or whether he is ultimately set free.\n\nJoin the 
 Iraq Moratorium at Sen. Dianne Feinstein's office, Market/Montgomery 5:00 
 pm - 6:00 pm Poetry readings by Jack Hirschman (San Francisco poet 
 laureate), Janice Mirikitani. Ying Lee speaking on behalf of the Watada 
 Support Committee. For more information: doloresMP@gmail.com \n 
 https://www.indybay.org/newsitems/2007/10/16/18454190.php
SUMMARY:Iraq Moratorium - Poetry Reading - Support Lt. Watada
LOCATION:Senator Dianne Feinstein's office, Market/Montgomery
URL:https://www.indybay.org/newsitems/2007/10/16/18454190.php
DTSTART:20071020T000000Z
DTEND:20071020T010000Z
END:VEVENT
END:VCALENDAR
