BEGIN:VCALENDAR
VERSION:2.0
X-WR-CALNAME:www.indybay.org
PRODID:-//indybay/ical// v1.0//EN
BEGIN:VEVENT
UID:Indybay-18453914
SEQUENCE:18473015
CREATED:20071014T232600Z
DESCRIPTION:The local chapter of the World Affairs Council, in conjunction with the 
 League of Women Voters of Marin County, will present a program on 
 immigration beginning at 5 p.m. Oct. 17 \n\nThe free program, titled 
 "Latino Immigrants in America: Our Past and Our Future," will feature a 
 discussion by John Trasvina, president and general counsel for the 
 Mexican-American Legal Defense and Education Fund.\n\nTo reserve 
 seats,.\n\nput up by \n 
 https://www.indybay.org/newsitems/2007/10/14/18453914.php
SUMMARY:Ross Program on immigration rights{John Trasvina- Mexican-American Legal Defense and Ed.}
LOCATION:Art and Garden Center at 30 Sir Francis Drake Blvd. in Ross\n\nend of event 
 a guess
URL:https://www.indybay.org/newsitems/2007/10/14/18453914.php
DTSTART:20071018T000000Z
DTEND:20071018T023000Z
END:VEVENT
END:VCALENDAR
