BEGIN:VCALENDAR
VERSION:2.0
X-WR-CALNAME:www.indybay.org
PRODID:-//indybay/ical// v1.0//EN
BEGIN:VEVENT
UID:Indybay-18453657
SEQUENCE:18472639
CREATED:20071012T220400Z
DESCRIPTION:Rep. Eshoo to Host Town Hall Meetings in Scotts Valley and Redwood City  
 	\n\nOctober 11, 2007\n\nRep. Anna G. Eshoo (CA-14) will hold Town Hall 
 Meetings in Scotts Valley and Redwood City on Saturday, October 
 13th.\n\nShe will discuss her work in Congress and on the House 
 Intelligence Committee and the Energy and Commerce Committee, including 
 providing health care coverage to low-income children, making college more 
 affordable, increasing funding for veterans' health care, achieving energy 
 independence, combating global warming, American competitiveness, and the 
 war in Iraq.\n\nAll constituents are invited to attend and share their 
 concerns with Rep. Eshoo.\n\nThese locations are wheelchair accessible and 
 have parking. For more information, including assistance with directions, 
 please visit Rep. Eshoo's website at http://eshoo.house.gov/ or call her 
 District Office at (650) 323-2984, (831) 335-2020 or (408) 
 245-2339.\n\nSaturday, October 13th\nScotts Valley\n9:00 a.m. to 10:30 
 a.m.\nScotts Valley City Council Chambers\nOne Civic Center 
 Drive\n\nRedwood City\n1:00 p.m. - 2:30 p.m.\nSan Mateo County Board of 
 Supervisors' Chambers\nHall of Justice & Records\n400 County Center\n 
 https://www.indybay.org/newsitems/2007/10/12/18453657.php
SUMMARY:Anna Eshoo Town Hall in Redwood City
LOCATION:When:  	Saturday, October 13 2007 @ 01:00 PM - - 02:30PM\nWhere: 	San Mateo 
 County Board of Supervisors' Chambers\n400 County Center\nRedwood City
URL:https://www.indybay.org/newsitems/2007/10/12/18453657.php
DTSTART:20071013T200000Z
DTEND:20071013T213000Z
END:VEVENT
END:VCALENDAR
