BEGIN:VCALENDAR
VERSION:2.0
X-WR-CALNAME:www.indybay.org
PRODID:-//indybay/ical// v1.0//EN
BEGIN:VEVENT
UID:Indybay-18453466
SEQUENCE:18472353
CREATED:20071011T190600Z
DESCRIPTION:Please join Family Violence Law Center (FVLC) in “Voices of Courage,” 
 our celebration of serving 10,000 abuse survivors in one year.  Attorney 
 and best-selling author Cupcake Brown will speak about her personal 
 experience with domestic violence.  Ms. Brown is the author of the New York 
 Times best-selling memoir, A Piece of Cake, and she was featured as a 
 “Phenomenal Woman” in Oprah Winfrey’s O Magazine.  FVLC will also 
 present five awards to honor community partners who have participated in 
 its work to end domestic violence, including a “Justice Award” to The 
 Clorox Company.  The dinner will include a silent auction and a performance 
 by freedom choir Vukani Mawethu.\n 
 https://www.indybay.org/newsitems/2007/10/11/18453466.php
SUMMARY:"Voices of Courage" Celebration
LOCATION:Scott's Restaurant, Jack London Square\n2 Broadway\nOakland, CA
URL:https://www.indybay.org/newsitems/2007/10/11/18453466.php
DTSTART:20071026T010000Z
DTEND:20071026T040000Z
END:VEVENT
END:VCALENDAR
