BEGIN:VCALENDAR
VERSION:2.0
X-WR-CALNAME:www.indybay.org
PRODID:-//indybay/ical// v1.0//EN
BEGIN:VEVENT
UID:Indybay-18453060
SEQUENCE:18471852
CREATED:20071009T212700Z
DESCRIPTION:Michael A. Levi, Program on Energy Security and Climate Change Director, 
 Council on Foreign Relations\n\nIn his new book, On Nuclear Terrorism, 
 Michael Levi takes us inside nuclear terrorism and behind the decisions a 
 terrorist leader would be faced with in pursuing a nuclear plot. Levi draws 
 from long experience with terrorism and believes this mode of terrorism 
 shares much in common with other terrorist threats. As a result, he argues, 
 defeating it is impossible unless we put our entire counterterrorism and 
 homeland security house in order. While no defense can completely eliminate 
 nuclear terrorism, he believes it is the “right strategy” that will 
 minimize the risks.\n\nCheck-in: 5:30 PM, Program: 6:00 PM\n\nCouncil and 
 CFR Members: Free, Nonmembers: $15, Students:$5\n\n 
 https://www.indybay.org/newsitems/2007/10/09/18453060.php
SUMMARY:The Risks of Nuclear Terrorism
LOCATION:World Affairs Council Auditorium\n312 Sutter St, Suite 200\nSan Francisco, 
 CA 94108
URL:https://www.indybay.org/newsitems/2007/10/09/18453060.php
DTSTART:20071128T020000Z
DTEND:20071128T033000Z
END:VEVENT
END:VCALENDAR
