BEGIN:VCALENDAR
VERSION:2.0
X-WR-CALNAME:www.indybay.org
PRODID:-//indybay/ical// v1.0//EN
BEGIN:VEVENT
UID:Indybay-18452843
SEQUENCE:18471575
CREATED:20071008T151900Z
DESCRIPTION:· ANSWER Meeting - Help build and volunteer for Oct. 27\n· Youth & 
 Student ANSWER Organizing Meeting\n\nANSWER Activist Meeting\nTues. Oct. 9, 
 7pm\n\nThe U.S. continues to terrorize the Iraqi population through its 
 military surge, Blackwater mercenaries and other "security" contractors. In 
 the meantime, while no cost is too high for the Bush administration in its 
 war for empire, Bush vetoed the extension of the SCHIP child health care 
 program, citing its high cost.\n\nJoin us for an update on the war in Iraq 
 and plans for the Oct. 27 March & Rally in San Francisco. The meeting will 
 mainly be a work session, both outreach and work in the office. We need 
 many volunteers for October 27 and between now and the march. Close to 100 
 organizations have joined the mobilization. YOUR HELP IS NEEDED NOW! Please 
 try to attend this meeting.\n\nClick here to view a complete list of Oct. 
 27 endorsers.\n\nWed. Oct. 10, 7pm\nYouth & Student ANSWER Meeting—End 
 the War Now!\n2489 Mission St. #30 (at 21st St), San Francisco\nnear 24th 
 St. BART, #14, #49 MUNI\n\nBush recently announced that the Pentagon wants 
 another $50 billion on top of the $145 billion. That would bring the price 
 tag for the Iraq war to over $3 billion per week. That’s $430 million per 
 day or $5,000 per second! Meanwhile, even more cuts in nutrition, health 
 care and other social programs are on the agenda. While nearly a trillion 
 dollars -- that's $1,000,000,000,000 -- will be spent this year on the 
 military, public schools are deteriorating and many working class students 
 can't afford to go to college.\n\nOn Saturday, September 15th over 100,000 
 people took to the streets of Washington DC demanding an immediate end to 
 the illegal occupation of Iraq. The media pointed out that the crowd was 
 “young” and they were right. Youth and students throughout history have 
 played an integral role in fighting for social change.\n\nOn October 27, 
 thousands of people will again take to the streets. Youth and students will 
 say ‘NO’ to the illegal, racist occupation of Iraq—money for 
 education, not occupation! JOIN US!\n\nA.N.S.W.E.R. Coalition\nAct Now to 
 Stop War & End Racism\nhttp://www.ANSWERcoalition.org 
 http://www.answersf.org\nanswer@answersf.org\n2489 Mission St. Rm. 24\nSan 
 Francisco: 415-821-6545\n\n\nMake a tax-deductible donation to A.N.S.W.E.R. 
 by credit card over a secure server, learn how to donate by 
 check.\n\nUnsubscribe from this list - if you experience a problem please 
 email answer@actionsf.org  \n\n\nadd put up by \n\n\n 
 https://www.indybay.org/newsitems/2007/10/08/18452843.php
SUMMARY:ANSWER Activist Meeting{Blackwater}SCHIP{SF Oct.7 Anti-War March Planning}
LOCATION:2489 Mission St. #30 (at 21st St), San Francisco\nnear 24th St. BART, #14, 
 #49 MUNI
URL:https://www.indybay.org/newsitems/2007/10/08/18452843.php
DTSTART:20071010T020000Z
DTEND:20071010T040000Z
END:VEVENT
END:VCALENDAR
