BEGIN:VCALENDAR
VERSION:2.0
X-WR-CALNAME:www.indybay.org
PRODID:-//indybay/ical// v1.0//EN
BEGIN:VEVENT
UID:Indybay-18452426
SEQUENCE:18471065
CREATED:20071006T174200Z
DESCRIPTION:The Family Store will have its fall flea market fundraiser from 8 a.m. to 4 
 p.m. \n\nProceeds will benefit the nonprofit Family Service Agency of 
 Marin, which sponsors programs on drug and alcohol abuse and other issues 
 for individuals and families.\n\nFor details, call \n 
 https://www.indybay.org/newsitems/2007/10/06/18452426.php
SUMMARY:Family Service Agency of Marin flea market Fundraiser{Mill Valley}drug/alcohol programs
LOCATION:Oct. 21 at the store at 448 Miller Ave.
URL:https://www.indybay.org/newsitems/2007/10/06/18452426.php
DTSTART:20071021T150000Z
DTEND:20071021T230000Z
END:VEVENT
END:VCALENDAR
